Package: RCAS Version: 1.32.0 Command: rm -rf RCAS.buildbin-libdir && mkdir RCAS.buildbin-libdir && /Users/biocbuild/BBS/utils/build-universal.sh RCAS_1.32.0.tar.gz /Library/Frameworks/R.framework/Resources/bin/R RCAS.buildbin-libdir StartedAt: 2025-01-31 13:28:21 -0500 (Fri, 31 Jan 2025) EndedAt: 2025-01-31 13:30:00 -0500 (Fri, 31 Jan 2025) EllapsedTime: 98.9 seconds RetCode: 0 Status: OK PackageFile: RCAS_1.32.0.tgz PackageFileSize: 2.119 MiB