Package: RCAS Version: 1.32.0 Command: /Library/Frameworks/R.framework/Resources/bin/R CMD check --install=check:RCAS.install-out.txt --library=/Library/Frameworks/R.framework/Resources/library --no-vignettes --timings RCAS_1.32.0.tar.gz StartedAt: 2025-01-31 08:39:56 -0500 (Fri, 31 Jan 2025) EndedAt: 2025-01-31 09:01:19 -0500 (Fri, 31 Jan 2025) EllapsedTime: 1282.7 seconds RetCode: 0 Status: OK CheckDir: RCAS.Rcheck Warnings: 0