Package: RCAS Version: 1.32.0 Command: /Library/Frameworks/R.framework/Resources/bin/R CMD INSTALL RCAS StartedAt: 2025-01-30 16:00:25 -0500 (Thu, 30 Jan 2025) EndedAt: 2025-01-30 16:02:05 -0500 (Thu, 30 Jan 2025) EllapsedTime: 99.6 seconds RetCode: 0 Status: OK