Package: RCAS Version: 1.32.0 Command: /home/biocbuild/bbs-3.20-bioc/R/bin/R CMD INSTALL RCAS StartedAt: 2025-01-30 15:33:38 -0500 (Thu, 30 Jan 2025) EndedAt: 2025-01-30 15:34:30 -0500 (Thu, 30 Jan 2025) EllapsedTime: 51.9 seconds RetCode: 0 Status: OK