Package: RCAS Version: 1.32.0 Command: rm -rf RCAS.buildbin-libdir && mkdir RCAS.buildbin-libdir && F:\biocbuild\bbs-3.20-bioc\R\bin\R.exe CMD INSTALL --build --library=RCAS.buildbin-libdir RCAS_1.32.0.tar.gz StartedAt: 2025-01-31 09:22:57 -0500 (Fri, 31 Jan 2025) EndedAt: 2025-01-31 09:24:09 -0500 (Fri, 31 Jan 2025) EllapsedTime: 72.4 seconds RetCode: 0 Status: OK PackageFile: RCAS_1.32.0.zip PackageFileSize: 1.797 MiB