Package: RCAS Version: 1.32.0 Command: chmod a+r RCAS -R && F:\biocbuild\bbs-3.20-bioc\R\bin\R.exe CMD build --keep-empty-dirs --no-resave-data RCAS StartedAt: 2025-02-03 21:32:46 -0500 (Mon, 03 Feb 2025) EndedAt: 2025-02-03 21:36:24 -0500 (Mon, 03 Feb 2025) EllapsedTime: 217.4 seconds RetCode: 0 Status: OK PackageFile: RCAS_1.32.0.tar.gz PackageFileSize: 1.34 MiB