Package: RCAS Version: 1.32.0 Command: /home/biocbuild/R/R/bin/R CMD INSTALL RCAS StartedAt: 2025-01-30 20:41:55 -0000 (Thu, 30 Jan 2025) EndedAt: 2025-01-30 20:42:51 -0000 (Thu, 30 Jan 2025) EllapsedTime: 56.2 seconds RetCode: 0 Status: OK