Package: RCASPAR Version: 1.52.0 Command: rm -rf RCASPAR.buildbin-libdir && mkdir RCASPAR.buildbin-libdir && /Users/biocbuild/BBS/utils/build-universal.sh RCASPAR_1.52.0.tar.gz /Library/Frameworks/R.framework/Resources/bin/R RCASPAR.buildbin-libdir StartedAt: 2025-02-05 17:18:51 -0500 (Wed, 05 Feb 2025) EndedAt: 2025-02-05 17:18:56 -0500 (Wed, 05 Feb 2025) EllapsedTime: 4.6 seconds RetCode: 0 Status: OK PackageFile: RCASPAR_1.52.0.tgz PackageFileSize: 373.4 KiB