Package: RCASPAR Version: 1.52.0 Command: /home/biocbuild/bbs-3.20-bioc/R/bin/R CMD build --keep-empty-dirs --no-resave-data --md5 RCASPAR StartedAt: 2025-02-03 18:54:19 -0500 (Mon, 03 Feb 2025) EndedAt: 2025-02-03 18:54:25 -0500 (Mon, 03 Feb 2025) EllapsedTime: 6.0 seconds RetCode: 0 Status: OK PackageFile: RCASPAR_1.52.0.tar.gz PackageFileSize: 307 KiB