Package: RCASPAR Version: 1.52.0 Command: /home/biocbuild/R/R/bin/R CMD build --keep-empty-dirs --no-resave-data RCASPAR StartedAt: 2025-01-31 02:02:01 -0000 (Fri, 31 Jan 2025) EndedAt: 2025-01-31 02:02:07 -0000 (Fri, 31 Jan 2025) EllapsedTime: 6.0 seconds RetCode: 0 Status: OK PackageFile: RCASPAR_1.52.0.tar.gz PackageFileSize: 297 KiB