Package: RCM Version: 1.22.0 Command: rm -rf RCM.buildbin-libdir && mkdir RCM.buildbin-libdir && /Users/biocbuild/BBS/utils/build-universal.sh RCM_1.22.0.tar.gz /Library/Frameworks/R.framework/Resources/bin/R RCM.buildbin-libdir StartedAt: 2025-02-01 16:23:58 -0500 (Sat, 01 Feb 2025) EndedAt: 2025-02-01 16:24:27 -0500 (Sat, 01 Feb 2025) EllapsedTime: 29.4 seconds RetCode: 0 Status: OK PackageFile: RCM_1.22.0.tgz PackageFileSize: 5.057 MiB