Package: RCM Version: 1.22.0 Command: /Library/Frameworks/R.framework/Resources/bin/R CMD build --keep-empty-dirs --no-resave-data RCM StartedAt: 2025-02-04 06:20:54 -0500 (Tue, 04 Feb 2025) EndedAt: 2025-02-04 06:21:54 -0500 (Tue, 04 Feb 2025) EllapsedTime: 60.7 seconds RetCode: 0 Status: OK PackageFile: RCM_1.22.0.tar.gz PackageFileSize: 4.821 MiB