Package: RCM Version: 1.22.0 Command: /Library/Frameworks/R.framework/Resources/bin/R CMD build --keep-empty-dirs --no-resave-data RCM StartedAt: 2025-02-03 21:34:58 -0500 (Mon, 03 Feb 2025) EndedAt: 2025-02-03 21:36:59 -0500 (Mon, 03 Feb 2025) EllapsedTime: 120.9 seconds RetCode: 0 Status: OK PackageFile: RCM_1.22.0.tar.gz PackageFileSize: 4.819 MiB