Package: RCM Version: 1.22.0 Command: rm -rf RCM.buildbin-libdir && mkdir RCM.buildbin-libdir && F:\biocbuild\bbs-3.20-bioc\R\bin\R.exe CMD INSTALL --build --library=RCM.buildbin-libdir RCM_1.22.0.tar.gz StartedAt: 2025-01-31 09:23:11 -0500 (Fri, 31 Jan 2025) EndedAt: 2025-01-31 09:24:13 -0500 (Fri, 31 Jan 2025) EllapsedTime: 62.1 seconds RetCode: 0 Status: OK PackageFile: RCM_1.22.0.zip PackageFileSize: 3.399 MiB