Package: RCM Version: 1.22.0 Command: /home/biocbuild/R/R/bin/R CMD build --keep-empty-dirs --no-resave-data RCM StartedAt: 2025-01-31 02:02:15 -0000 (Fri, 31 Jan 2025) EndedAt: 2025-01-31 02:03:29 -0000 (Fri, 31 Jan 2025) EllapsedTime: 74.1 seconds RetCode: 0 Status: OK PackageFile: RCM_1.22.0.tar.gz PackageFileSize: 3.134 MiB