Package: RCM Version: 1.22.0 Command: /home/biocbuild/R/R/bin/R CMD INSTALL RCM StartedAt: 2025-02-03 21:10:29 -0000 (Mon, 03 Feb 2025) EndedAt: 2025-02-03 21:10:57 -0000 (Mon, 03 Feb 2025) EllapsedTime: 28.2 seconds RetCode: 0 Status: OK