Package: RCSL Version: 1.14.0 Command: /Library/Frameworks/R.framework/Resources/bin/R CMD INSTALL RCSL StartedAt: 2025-02-03 15:27:41 -0500 (Mon, 03 Feb 2025) EndedAt: 2025-02-03 15:27:58 -0500 (Mon, 03 Feb 2025) EllapsedTime: 16.9 seconds RetCode: 0 Status: OK