Package: RCSL Version: 1.14.0 Command: /home/biocbuild/bbs-3.20-bioc/R/bin/R CMD check --install=check:RCSL.install-out.txt --library=/home/biocbuild/bbs-3.20-bioc/R/site-library --timings RCSL_1.14.0.tar.gz StartedAt: 2025-02-04 01:37:12 -0500 (Tue, 04 Feb 2025) EndedAt: 2025-02-04 01:44:06 -0500 (Tue, 04 Feb 2025) EllapsedTime: 413.5 seconds RetCode: 0 Status: OK CheckDir: RCSL.Rcheck Warnings: 0