Package: RCSL Version: 1.14.0 Command: rm -rf RCSL.buildbin-libdir && mkdir RCSL.buildbin-libdir && F:\biocbuild\bbs-3.20-bioc\R\bin\R.exe CMD INSTALL --build --library=RCSL.buildbin-libdir RCSL_1.14.0.tar.gz StartedAt: 2025-02-04 09:17:28 -0500 (Tue, 04 Feb 2025) EndedAt: 2025-02-04 09:17:49 -0500 (Tue, 04 Feb 2025) EllapsedTime: 20.6 seconds RetCode: 0 Status: OK PackageFile: RCSL_1.14.0.zip PackageFileSize: 2.885 MiB