Package: RCSL Version: 1.14.0 Command: F:\biocbuild\bbs-3.20-bioc\R\bin\R.exe CMD check --no-multiarch --install=check:RCSL.install-out.txt --library=F:\biocbuild\bbs-3.20-bioc\R\library --no-vignettes --timings RCSL_1.14.0.tar.gz StartedAt: 2025-02-04 05:20:10 -0500 (Tue, 04 Feb 2025) EndedAt: 2025-02-04 05:28:23 -0500 (Tue, 04 Feb 2025) EllapsedTime: 493.4 seconds RetCode: 0 Status: OK CheckDir: RCSL.Rcheck Warnings: 0