Package: RCSL Version: 1.14.0 Command: /home/biocbuild/R/R/bin/R CMD build --keep-empty-dirs --no-resave-data RCSL StartedAt: 2025-02-04 02:08:33 -0000 (Tue, 04 Feb 2025) EndedAt: 2025-02-04 02:09:13 -0000 (Tue, 04 Feb 2025) EllapsedTime: 40.1 seconds RetCode: 0 Status: OK PackageFile: RCSL_1.14.0.tar.gz PackageFileSize: 1.874 MiB