Package: RCSL Version: 1.14.0 Command: /home/biocbuild/R/R/bin/R CMD INSTALL RCSL StartedAt: 2025-02-03 20:32:50 -0000 (Mon, 03 Feb 2025) EndedAt: 2025-02-03 20:33:01 -0000 (Mon, 03 Feb 2025) EllapsedTime: 10.6 seconds RetCode: 0 Status: OK