Package: RCX Version: 1.10.0 Command: rm -rf RCX.buildbin-libdir && mkdir RCX.buildbin-libdir && /Users/biocbuild/BBS/utils/build-universal.sh RCX_1.10.0.tar.gz /Library/Frameworks/R.framework/Resources/bin/R RCX.buildbin-libdir StartedAt: 2025-02-05 17:19:57 -0500 (Wed, 05 Feb 2025) EndedAt: 2025-02-05 17:20:06 -0500 (Wed, 05 Feb 2025) EllapsedTime: 9.0 seconds RetCode: 0 Status: OK PackageFile: RCX_1.10.0.tgz PackageFileSize: 3.596 MiB