Package: RCX Version: 1.10.0 Command: /Library/Frameworks/R.framework/Resources/bin/R CMD build --keep-empty-dirs --no-resave-data RCX StartedAt: 2025-02-04 06:21:59 -0500 (Tue, 04 Feb 2025) EndedAt: 2025-02-04 06:22:31 -0500 (Tue, 04 Feb 2025) EllapsedTime: 31.6 seconds RetCode: 0 Status: OK PackageFile: RCX_1.10.0.tar.gz PackageFileSize: 4.574 MiB