Package: RCX Version: 1.10.0 Command: /Library/Frameworks/R.framework/Resources/bin/R CMD check --install=check:RCX.install-out.txt --library=/Library/Frameworks/R.framework/Resources/library --no-vignettes --timings RCX_1.10.0.tar.gz StartedAt: 2025-02-05 06:53:37 -0500 (Wed, 05 Feb 2025) EndedAt: 2025-02-05 06:54:32 -0500 (Wed, 05 Feb 2025) EllapsedTime: 55.2 seconds RetCode: 0 Status: OK CheckDir: RCX.Rcheck Warnings: 0