Package: RCX Version: 1.10.0 Command: rm -rf RCX.buildbin-libdir && mkdir RCX.buildbin-libdir && /Users/biocbuild/BBS/utils/build-universal.sh RCX_1.10.0.tar.gz /Library/Frameworks/R.framework/Resources/bin/R RCX.buildbin-libdir StartedAt: 2025-02-04 13:56:08 -0500 (Tue, 04 Feb 2025) EndedAt: 2025-02-04 13:56:36 -0500 (Tue, 04 Feb 2025) EllapsedTime: 28.4 seconds RetCode: 0 Status: OK PackageFile: RCX_1.10.0.tgz PackageFileSize: 3.595 MiB