Package: RCX Version: 1.10.0 Command: /home/biocbuild/R/R/bin/R CMD INSTALL RCX StartedAt: 2025-02-03 20:27:11 -0000 (Mon, 03 Feb 2025) EndedAt: 2025-02-03 20:27:45 -0000 (Mon, 03 Feb 2025) EllapsedTime: 34.1 seconds RetCode: 0 Status: OK