Package: RCy3 Version: 2.26.0 Command: /Library/Frameworks/R.framework/Resources/bin/R CMD INSTALL RCy3 StartedAt: 2025-02-03 17:01:58 -0500 (Mon, 03 Feb 2025) EndedAt: 2025-02-03 17:02:13 -0500 (Mon, 03 Feb 2025) EllapsedTime: 14.5 seconds RetCode: 0 Status: OK