Package: RCy3
Version: 2.26.0
Command: rm -rf RCy3.buildbin-libdir && mkdir RCy3.buildbin-libdir && /Users/biocbuild/BBS/utils/build-universal.sh RCy3_2.26.0.tar.gz /Library/Frameworks/R.framework/Resources/bin/R RCy3.buildbin-libdir
StartedAt: 2024-11-20 04:45:20 -0500 (Wed, 20 Nov 2024)
EndedAt: 2024-11-20 04:45:48 -0500 (Wed, 20 Nov 2024)
EllapsedTime: 28.7 seconds
RetCode: 0
Status: OK
PackageFile: RCy3_2.26.0.tgz
PackageFileSize: 7.313 <A href="http://en.wikipedia.org/wiki/MiB" target="_blank">MiB</A>