Package: RCyjs
Version: 2.28.0
Command: /home/biocbuild/R/R/bin/R CMD check --install=check:RCyjs.install-out.txt --library=/home/biocbuild/R/R/site-library --no-vignettes --timings RCyjs_2.28.0.tar.gz
StartedAt: 2024-11-20 11:29:33 -0000 (Wed, 20 Nov 2024)
EndedAt: 2024-11-20 11:30:22 -0000 (Wed, 20 Nov 2024)
EllapsedTime: 49.2 seconds
RetCode: 0
Status: WARNINGS
CheckDir: RCyjs.Rcheck
Warnings: 1