Package: RCyjs Version: 2.28.0 Command: chmod a+r RCyjs -R && F:\biocbuild\bbs-3.20-bioc\R\bin\R.exe CMD build --keep-empty-dirs --no-resave-data RCyjs StartedAt: 2025-02-03 21:34:21 -0500 (Mon, 03 Feb 2025) EndedAt: 2025-02-03 21:36:08 -0500 (Mon, 03 Feb 2025) EllapsedTime: 107.4 seconds RetCode: 0 Status: OK PackageFile: RCyjs_2.28.0.tar.gz PackageFileSize: 1.084 MiB