Package: RCyjs Version: 2.28.0 Command: /home/biocbuild/R/R/bin/R CMD build --keep-empty-dirs --no-resave-data RCyjs StartedAt: 2025-02-04 02:09:09 -0000 (Tue, 04 Feb 2025) EndedAt: 2025-02-04 02:09:20 -0000 (Tue, 04 Feb 2025) EllapsedTime: 11.0 seconds RetCode: 0 Status: OK PackageFile: RCyjs_2.28.0.tar.gz PackageFileSize: 1.109 MiB