Package: RCyjs Version: 2.28.0 Command: /home/biocbuild/R/R/bin/R CMD INSTALL RCyjs StartedAt: 2025-02-03 20:27:55 -0000 (Mon, 03 Feb 2025) EndedAt: 2025-02-03 20:28:10 -0000 (Mon, 03 Feb 2025) EllapsedTime: 15.6 seconds RetCode: 0 Status: OK