Package: REBET Version: 1.24.0 Command: rm -rf REBET.buildbin-libdir && mkdir REBET.buildbin-libdir && /Users/biocbuild/BBS/utils/build-universal.sh REBET_1.24.0.tar.gz /Library/Frameworks/R.framework/Resources/bin/R REBET.buildbin-libdir StartedAt: 2025-02-05 17:20:18 -0500 (Wed, 05 Feb 2025) EndedAt: 2025-02-05 17:20:29 -0500 (Wed, 05 Feb 2025) EllapsedTime: 10.2 seconds RetCode: 0 Status: OK PackageFile: REBET_1.24.0.tgz PackageFileSize: 330.7 KiB