Package: REBET Version: 1.24.0 Command: /Library/Frameworks/R.framework/Resources/bin/R CMD build --keep-empty-dirs --no-resave-data REBET StartedAt: 2025-02-04 06:23:16 -0500 (Tue, 04 Feb 2025) EndedAt: 2025-02-04 06:23:33 -0500 (Tue, 04 Feb 2025) EllapsedTime: 17.1 seconds RetCode: 0 Status: OK PackageFile: REBET_1.24.0.tar.gz PackageFileSize: 310.5 KiB