Package: REBET Version: 1.24.0 Command: /Library/Frameworks/R.framework/Resources/bin/R CMD check --install=check:REBET.install-out.txt --library=/Library/Frameworks/R.framework/Resources/library --no-vignettes --timings REBET_1.24.0.tar.gz StartedAt: 2025-02-05 06:56:19 -0500 (Wed, 05 Feb 2025) EndedAt: 2025-02-05 06:57:19 -0500 (Wed, 05 Feb 2025) EllapsedTime: 60.2 seconds RetCode: 0 Status: WARNINGS CheckDir: REBET.Rcheck Warnings: 1