Package: REBET Version: 1.24.0 Command: /Library/Frameworks/R.framework/Resources/bin/R CMD INSTALL REBET StartedAt: 2025-02-03 18:16:17 -0500 (Mon, 03 Feb 2025) EndedAt: 2025-02-03 18:16:25 -0500 (Mon, 03 Feb 2025) EllapsedTime: 8.1 seconds RetCode: 0 Status: OK