Package: REBET Version: 1.24.0 Command: rm -rf REBET.buildbin-libdir && mkdir REBET.buildbin-libdir && /Users/biocbuild/BBS/utils/build-universal.sh REBET_1.24.0.tar.gz /Library/Frameworks/R.framework/Resources/bin/R REBET.buildbin-libdir StartedAt: 2025-02-04 13:56:49 -0500 (Tue, 04 Feb 2025) EndedAt: 2025-02-04 13:57:13 -0500 (Tue, 04 Feb 2025) EllapsedTime: 24.3 seconds RetCode: 0 Status: OK PackageFile: REBET_1.24.0.tgz PackageFileSize: 332.6 KiB