Package: REBET Version: 1.24.0 Command: /home/biocbuild/R/R/bin/R CMD check --install=check:REBET.install-out.txt --library=/home/biocbuild/R/R/site-library --no-vignettes --timings REBET_1.24.0.tar.gz StartedAt: 2025-02-04 10:17:21 -0000 (Tue, 04 Feb 2025) EndedAt: 2025-02-04 10:18:15 -0000 (Tue, 04 Feb 2025) EllapsedTime: 54.2 seconds RetCode: 0 Status: OK CheckDir: REBET.Rcheck Warnings: 0