Package: REBET Version: 1.24.0 Command: /home/biocbuild/R/R/bin/R CMD INSTALL REBET StartedAt: 2025-02-03 21:23:48 -0000 (Mon, 03 Feb 2025) EndedAt: 2025-02-03 21:23:57 -0000 (Mon, 03 Feb 2025) EllapsedTime: 8.3 seconds RetCode: 0 Status: OK