Package: REDseq Version: 1.52.0 Command: /Library/Frameworks/R.framework/Resources/bin/R CMD check --install=check:REDseq.install-out.txt --library=/Library/Frameworks/R.framework/Resources/library --no-vignettes --timings REDseq_1.52.0.tar.gz StartedAt: 2025-02-04 08:43:30 -0500 (Tue, 04 Feb 2025) EndedAt: 2025-02-04 08:54:15 -0500 (Tue, 04 Feb 2025) EllapsedTime: 644.2 seconds RetCode: 0 Status: OK CheckDir: REDseq.Rcheck Warnings: 0