Package: REDseq Version: 1.52.0 Command: /home/biocbuild/bbs-3.20-bioc/R/bin/R CMD build --keep-empty-dirs --no-resave-data --md5 REDseq StartedAt: 2025-02-03 18:56:17 -0500 (Mon, 03 Feb 2025) EndedAt: 2025-02-03 18:57:21 -0500 (Mon, 03 Feb 2025) EllapsedTime: 64.1 seconds RetCode: 0 Status: OK PackageFile: REDseq_1.52.0.tar.gz PackageFileSize: 362.7 KiB