Package: RESOLVE Version: 1.8.0 Command: /Library/Frameworks/R.framework/Resources/bin/R CMD build --keep-empty-dirs --no-resave-data RESOLVE StartedAt: 2025-02-03 21:40:18 -0500 (Mon, 03 Feb 2025) EndedAt: 2025-02-03 21:42:17 -0500 (Mon, 03 Feb 2025) EllapsedTime: 118.5 seconds RetCode: 0 Status: OK PackageFile: RESOLVE_1.8.0.tar.gz PackageFileSize: 735.5 KiB