Package: RESOLVE Version: 1.8.0 Command: /home/biocbuild/bbs-3.20-bioc/R/bin/R CMD check --install=check:RESOLVE.install-out.txt --library=/home/biocbuild/bbs-3.20-bioc/R/site-library --timings RESOLVE_1.8.0.tar.gz StartedAt: 2025-02-04 01:43:38 -0500 (Tue, 04 Feb 2025) EndedAt: 2025-02-04 01:57:31 -0500 (Tue, 04 Feb 2025) EllapsedTime: 833.0 seconds RetCode: 0 Status: OK CheckDir: RESOLVE.Rcheck Warnings: 0