Package: RESOLVE Version: 1.8.0 Command: F:\biocbuild\bbs-3.20-bioc\R\bin\R.exe CMD INSTALL RESOLVE StartedAt: 2025-02-03 17:13:47 -0500 (Mon, 03 Feb 2025) EndedAt: 2025-02-03 17:14:45 -0500 (Mon, 03 Feb 2025) EllapsedTime: 57.5 seconds RetCode: 0 Status: OK