Package: RESOLVE Version: 1.8.0 Command: /home/biocbuild/R/R/bin/R CMD build --keep-empty-dirs --no-resave-data RESOLVE StartedAt: 2025-02-04 02:13:18 -0000 (Tue, 04 Feb 2025) EndedAt: 2025-02-04 02:14:32 -0000 (Tue, 04 Feb 2025) EllapsedTime: 74.1 seconds RetCode: 0 Status: OK PackageFile: RESOLVE_1.8.0.tar.gz PackageFileSize: 784.4 KiB