Package: RESOLVE Version: 1.8.0 Command: /home/biocbuild/R/R/bin/R CMD check --install=check:RESOLVE.install-out.txt --library=/home/biocbuild/R/R/site-library --no-vignettes --timings RESOLVE_1.8.0.tar.gz StartedAt: 2025-02-04 10:20:50 -0000 (Tue, 04 Feb 2025) EndedAt: 2025-02-04 10:35:24 -0000 (Tue, 04 Feb 2025) EllapsedTime: 874.2 seconds RetCode: 0 Status: OK CheckDir: RESOLVE.Rcheck Warnings: 0