Package: RGSEA Version: 1.40.0 Command: /Library/Frameworks/R.framework/Resources/bin/R CMD check --install=check:RGSEA.install-out.txt --library=/Library/Frameworks/R.framework/Resources/library --no-vignettes --timings RGSEA_1.40.0.tar.gz StartedAt: 2025-02-05 07:24:37 -0500 (Wed, 05 Feb 2025) EndedAt: 2025-02-05 07:25:19 -0500 (Wed, 05 Feb 2025) EllapsedTime: 42.8 seconds RetCode: 0 Status: OK CheckDir: RGSEA.Rcheck Warnings: 0