############################################################################## ############################################################################## ### ### Running command: ### ### rm -rf RGSEA.buildbin-libdir && mkdir RGSEA.buildbin-libdir && /Users/biocbuild/BBS/utils/build-universal.sh RGSEA_1.40.0.tar.gz /Library/Frameworks/R.framework/Resources/bin/R RGSEA.buildbin-libdir ### ############################################################################## ############################################################################## >>>>>>> >>>>>>> INSTALLATION WITH 'R CMD INSTALL --preclean --no-multiarch --library=RGSEA.buildbin-libdir RGSEA_1.40.0.tar.gz' >>>>>>> Fatal error: cannot create 'R_TempDir'