Package: RGSEA Version: 1.40.0 Command: rm -rf RGSEA.buildbin-libdir && mkdir RGSEA.buildbin-libdir && /Users/biocbuild/BBS/utils/build-universal.sh RGSEA_1.40.0.tar.gz /Library/Frameworks/R.framework/Resources/bin/R RGSEA.buildbin-libdir StartedAt: 2025-01-31 13:31:02 -0500 (Fri, 31 Jan 2025) EndedAt: 2025-01-31 13:31:08 -0500 (Fri, 31 Jan 2025) EllapsedTime: 6.3 seconds RetCode: 0 Status: OK PackageFile: RGSEA_1.40.0.tgz PackageFileSize: 1.748 MiB